BEGIN:VCALENDAR
VERSION:2.0
PRODID:-//wp-events-plugin.com//7.2.3.1//EN
TZID:America/New_York
X-WR-TIMEZONE:America/New_York
BEGIN:VEVENT
UID:345@neryc.com
DTSTART;TZID=America/New_York:20260411T090000
DTEND;TZID=America/New_York:20260411T130000
DTSTAMP:20260326T185440Z
URL:https://neryc.com/events/work-day/
SUMMARY:Club Work Day
DESCRIPTION:
ATTACH;FMTTYPE=image/jpeg:https://neryc.com/wp-content/uploads/2026/03/NER
 YC-Calendar-Template-24.jpg
CATEGORIES:Club Event,Featured 1
END:VEVENT
BEGIN:VTIMEZONE
TZID:America/New_York
X-LIC-LOCATION:America/New_York
BEGIN:DAYLIGHT
DTSTART:20260308T030000
TZOFFSETFROM:-0500
TZOFFSETTO:-0400
TZNAME:EDT
END:DAYLIGHT
END:VTIMEZONE
END:VCALENDAR