BEGIN:VCALENDAR
VERSION:2.0
PRODID:-//wp-events-plugin.com//7.2.3.1//EN
TZID:America/New_York
X-WR-TIMEZONE:America/New_York
BEGIN:VEVENT
UID:90@neryc.com
DTSTART;TZID=America/New_York:20250426T170000
DTEND;TZID=America/New_York:20250426T220000
DTSTAMP:20241006T162316Z
URL:https://neryc.com/events/ud-fundraising-gala/
SUMMARY:UD Fundraising Gala
DESCRIPTION:
CATEGORIES:Outside Event
END:VEVENT
BEGIN:VTIMEZONE
TZID:America/New_York
X-LIC-LOCATION:America/New_York
BEGIN:DAYLIGHT
DTSTART:20250309T030000
TZOFFSETFROM:-0500
TZOFFSETTO:-0400
TZNAME:EDT
END:DAYLIGHT
END:VTIMEZONE
END:VCALENDAR