BEGIN:VCALENDAR
VERSION:2.0
PRODID:-//wp-events-plugin.com//7.2.3.1//EN
TZID:America/New_York
X-WR-TIMEZONE:America/New_York
BEGIN:VEVENT
UID:297@neryc.com
DTSTART;TZID=America/New_York:20260516T100000
DTEND;TZID=America/New_York:20260517T180000
DTSTAMP:20260304T200515Z
URL:https://neryc.com/events/shakedown-cruise-to-havre-de-grace/
SUMMARY:Shakedown Cruise to Havre de Grace
DESCRIPTION:
ATTACH;FMTTYPE=image/jpeg:https://neryc.com/wp-content/uploads/2026/03/NER
 YC-Calendar-Template-22.jpg
CATEGORIES:Cruises,Featured 1
END:VEVENT
BEGIN:VTIMEZONE
TZID:America/New_York
X-LIC-LOCATION:America/New_York
BEGIN:DAYLIGHT
DTSTART:20260308T030000
TZOFFSETFROM:-0500
TZOFFSETTO:-0400
TZNAME:EDT
END:DAYLIGHT
END:VTIMEZONE
END:VCALENDAR