BEGIN:VCALENDAR
VERSION:2.0
PRODID:-//wp-events-plugin.com//7.2.3.1//EN
TZID:America/New_York
X-WR-TIMEZONE:America/New_York
BEGIN:VEVENT
UID:200@neryc.com
DTSTART;TZID=America/New_York;VALUE=DATE:20250517
DTEND;TZID=America/New_York;VALUE=DATE:20250519
DTSTAMP:20250513T125857Z
URL:https://neryc.com/events/shakedown-cruise-to-chesapeake-city/
SUMMARY:Rescheduled Shakedown Cruise to Chesapeake City
DESCRIPTION:\n\n\n\n\nRescheduled Shakedown Cruise to Chesapeake City! If y
 ou travel by water\, use Dockwa to make a slip reservation. Then search ba
 r for Chesapeake Inn and Marina. Land cruisers are welcome\, but please em
 ail clarkchild@aol.com or text 610-716-7065 to include you in the dinner r
 eservations! 5:00 pm Cocktail get-together on the dock\, 7:00 dinner at th
 e Chesapeake Inn\n\n\n\n\n&nbsp\;\n\n&nbsp\;
ATTACH;FMTTYPE=image/jpeg:https://neryc.com/wp-content/uploads/2024/08/ner
 yc-featured-image-template-2.png
CATEGORIES:Cruises,Featured 1
END:VEVENT
BEGIN:VTIMEZONE
TZID:America/New_York
X-LIC-LOCATION:America/New_York
BEGIN:DAYLIGHT
DTSTART:20250309T030000
TZOFFSETFROM:-0500
TZOFFSETTO:-0400
TZNAME:EDT
END:DAYLIGHT
END:VTIMEZONE
END:VCALENDAR