BEGIN:VCALENDAR
VERSION:2.0
PRODID:-//wp-events-plugin.com//7.2.3.1//EN
TZID:America/New_York
X-WR-TIMEZONE:America/New_York
BEGIN:VEVENT
UID:1@neryc.com
DTSTART:20240406T180000Z
DTEND:20240406T220000Z
DTSTAMP:20240316T000508Z
URL:https://neryc.com/events/raingutter-regatta-live-music-silent-auction/
SUMMARY:Raingutter Regatta / Live Music / Silent Auction
DESCRIPTION:
CATEGORIES:Club Event
END:VEVENT
END:VCALENDAR