BEGIN:VCALENDAR
VERSION:2.0
PRODID:-//wp-events-plugin.com//7.2.3.1//EN
TZID:America/New_York
X-WR-TIMEZONE:America/New_York
BEGIN:VEVENT
UID:121@neryc.com
DTSTART;TZID=America/New_York:20260502T123000
DTEND;TZID=America/New_York:20260502T220000
DTSTAMP:20260304T135017Z
URL:https://neryc.com/events/opening-day-festivities/
SUMMARY:Opening Day Festivities
DESCRIPTION:Open Day Ceremony &amp\; Festivities\, followed by Kentucky Der
 by party and live music by Tidewater Adams.
ATTACH;FMTTYPE=image/jpeg:https://neryc.com/wp-content/uploads/2024/08/ner
 yc-featured-image-template-4.png
CATEGORIES:Club Event,Featured 1
END:VEVENT
BEGIN:VTIMEZONE
TZID:America/New_York
X-LIC-LOCATION:America/New_York
BEGIN:DAYLIGHT
DTSTART:20260308T030000
TZOFFSETFROM:-0500
TZOFFSETTO:-0400
TZNAME:EDT
END:DAYLIGHT
END:VTIMEZONE
END:VCALENDAR