BEGIN:VCALENDAR
VERSION:2.0
PRODID:-//wp-events-plugin.com//7.2.3.1//EN
TZID:America/New_York
X-WR-TIMEZONE:America/New_York
BEGIN:VEVENT
UID:3@neryc.com
DTSTART:20240504T150000Z
DTEND:20240504T170000Z
DTSTAMP:20240316T000809Z
URL:https://neryc.com/events/opening-day-cermony/
SUMMARY:Opening Day Cermony
DESCRIPTION:
CATEGORIES:Club Event
END:VEVENT
END:VCALENDAR