BEGIN:VCALENDAR
VERSION:2.0
PRODID:-//wp-events-plugin.com//7.2.3.1//EN
TZID:America/New_York
X-WR-TIMEZONE:America/New_York
BEGIN:VEVENT
UID:204@neryc.com
DTSTART;TZID=America/New_York:20250614T100000
DTEND;TZID=America/New_York:20250614T140000
DTSTAMP:20250416T002210Z
URL:https://neryc.com/events/open-house-2/
SUMMARY:Open House
DESCRIPTION:The North East River Yacht Club invites you to an open house fo
 r potential new members and has a few slips available in the marina. Stop 
 by for a personal tour and learn what the club has to offer. Boaters and n
 on-boaters are welcome to join our community. The NERYC restaurant will be
  serving lunch from 11:00-2:00 pm. We look forward to meeting you.
ATTACH;FMTTYPE=image/jpeg:https://neryc.com/wp-content/uploads/2024/06/Pho
 to-May-06-2023-7-22-47-AM.jpg
CATEGORIES:Club Event,Featured 1
END:VEVENT
BEGIN:VTIMEZONE
TZID:America/New_York
X-LIC-LOCATION:America/New_York
BEGIN:DAYLIGHT
DTSTART:20250309T030000
TZOFFSETFROM:-0500
TZOFFSETTO:-0400
TZNAME:EDT
END:DAYLIGHT
END:VTIMEZONE
END:VCALENDAR