BEGIN:VCALENDAR
VERSION:2.0
PRODID:-//wp-events-plugin.com//7.2.3.1//EN
TZID:America/New_York
X-WR-TIMEZONE:America/New_York
BEGIN:VEVENT
UID:147@neryc.com
DTSTART;TZID=America/New_York:20250123T180000
DTEND;TZID=America/New_York:20250123T200000
DTSTAMP:20250106T220536Z
URL:https://neryc.com/events/north-east-chamber-of-commerce-happy-hour/
SUMMARY:North East Chamber of Commerce Happy Hour
DESCRIPTION:
CATEGORIES:Outside Event
END:VEVENT
BEGIN:VTIMEZONE
TZID:America/New_York
X-LIC-LOCATION:America/New_York
BEGIN:STANDARD
DTSTART:20241103T010000
TZOFFSETFROM:-0400
TZOFFSETTO:-0500
TZNAME:EST
END:STANDARD
END:VTIMEZONE
END:VCALENDAR