BEGIN:VCALENDAR
VERSION:2.0
PRODID:-//wp-events-plugin.com//7.2.3.1//EN
TZID:America/New_York
X-WR-TIMEZONE:America/New_York
BEGIN:VEVENT
UID:215@neryc.com
DTSTART;TZID=America/New_York;VALUE=DATE:20250704
DTEND;TZID=America/New_York;VALUE=DATE:20250706
DTSTAMP:20250616T154220Z
URL:https://neryc.com/events/fireworks-cruise/
SUMMARY:Fireworks Cruise
DESCRIPTION:Celebrate the July 4th Holiday! July 3 Picnic and Fireworks at 
 NERYC\nJuly 4 - Boat or drive to Great Oak/Fairlee Creek for Fireworks\nJu
 ly 5 - Boat or drive to Harve de Grace for Fireworks
ATTACH;FMTTYPE=image/jpeg:https://neryc.com/wp-content/uploads/2025/05/NER
 YC-Calendar-Template-1.jpg
CATEGORIES:Cruises,Featured 1
END:VEVENT
BEGIN:VTIMEZONE
TZID:America/New_York
X-LIC-LOCATION:America/New_York
BEGIN:DAYLIGHT
DTSTART:20250309T030000
TZOFFSETFROM:-0500
TZOFFSETTO:-0400
TZNAME:EDT
END:DAYLIGHT
END:VTIMEZONE
END:VCALENDAR