BEGIN:VCALENDAR
VERSION:2.0
PRODID:-//wp-events-plugin.com//7.2.3.1//EN
TZID:America/New_York
X-WR-TIMEZONE:America/New_York
BEGIN:VEVENT
UID:294@neryc.com
DTSTART;TZID=America/New_York:20260419T130000
DTEND;TZID=America/New_York:20260419T170000
DTSTAMP:20260323T223606Z
URL:https://neryc.com/events/craft-create-event-earth-day-plant-swap-propa
 gation-project/
SUMMARY:Craft & Create Event: Earth Day Plant Swap & Propagation Project
DESCRIPTION:
ATTACH;FMTTYPE=image/jpeg:https://neryc.com/wp-content/uploads/2026/03/NER
 YC-Calendar-Template-19.jpg
CATEGORIES:Club Event,Featured 1
END:VEVENT
BEGIN:VTIMEZONE
TZID:America/New_York
X-LIC-LOCATION:America/New_York
BEGIN:DAYLIGHT
DTSTART:20260308T030000
TZOFFSETFROM:-0500
TZOFFSETTO:-0400
TZNAME:EDT
END:DAYLIGHT
END:VTIMEZONE
END:VCALENDAR