BEGIN:VCALENDAR
VERSION:2.0
PRODID:-//wp-events-plugin.com//7.2.3.1//EN
TZID:America/New_York
X-WR-TIMEZONE:America/New_York
BEGIN:VEVENT
UID:68@neryc.com
DTSTART;TZID=America/New_York:20241102T180000
DTEND;TZID=America/New_York:20241102T220000
DTSTAMP:20241011T183919Z
URL:https://neryc.com/events/commodores-ball/
SUMMARY:Commodore's Ball
DESCRIPTION:The Officers &amp\; Board of Governors of the North East River 
 Yacht Club cordially invite you to attend the installation of officers at 
 the 95th Annual Commodore's Ball\, honoring Commodore Elect Dick Martin &a
 mp\; First Mate Tina.
CATEGORIES:Club Event,Featured 1
END:VEVENT
BEGIN:VTIMEZONE
TZID:America/New_York
X-LIC-LOCATION:America/New_York
BEGIN:DAYLIGHT
DTSTART:20240310T030000
TZOFFSETFROM:-0500
TZOFFSETTO:-0400
TZNAME:EDT
END:DAYLIGHT
END:VTIMEZONE
END:VCALENDAR