BEGIN:VCALENDAR
VERSION:2.0
PRODID:-//wp-events-plugin.com//7.2.3.1//EN
TZID:America/New_York
X-WR-TIMEZONE:America/New_York
BEGIN:VEVENT
UID:211@neryc.com
DTSTART;TZID=America/New_York:20251108T000000
DTEND;TZID=America/New_York:20251108T000000
DTSTAMP:20251009T194300Z
URL:https://neryc.com/events/commodores-ball-2/
SUMMARY:Commodore's Ball
DESCRIPTION:\n\n\n\n\n\n\n\nThe 2025 Commodore's Ball\, "An Evening in Roma
 " will feature delectable drink specials and hors d’oeuvres\, an Italian
 -inspired feast\, the annual change of watch\, followed by live music &amp
 \; dancing the night away! We will honor Commodore-Elect\, Joe Romasco &am
 p\; First Mate\, Jill\, with an elegant evening you don’t want to miss!\
 n\n\nBlack tie optional\, formal/cocktail attire encouraged. \nCommodore'
 s Ball Couple Ticket:  https://link.clover.com/urlshortener/MHBm2y\nComm
 odore's Ball Single Ticket:\n https://link.clover.com/urlshortener/jvF4qB
 \nCommodore's Ball Jr. Tickets (Students &amp\; Princesses\; no alcohol in
 cluded):\n https://link.clover.com/urlshortener/D3JbWC\nAll tickets must 
 be prepaid in advance. \n\n\n\n\n\n
CATEGORIES:Club Event,Featured 1
END:VEVENT
BEGIN:VTIMEZONE
TZID:America/New_York
X-LIC-LOCATION:America/New_York
BEGIN:STANDARD
DTSTART:20251102T010000
TZOFFSETFROM:-0400
TZOFFSETTO:-0500
TZNAME:EST
END:STANDARD
END:VTIMEZONE
END:VCALENDAR