BEGIN:VCALENDAR
VERSION:2.0
PRODID:-//wp-events-plugin.com//7.2.3.1//EN
TZID:America/New_York
X-WR-TIMEZONE:America/New_York
BEGIN:VEVENT
UID:91@neryc.com
DTSTART;TZID=America/New_York:20241114T190000
DTEND;TZID=America/New_York:20241114T210000
DTSTAMP:20241014T231348Z
URL:https://neryc.com/events/cecil-district-camporee-planning-meeting-in-b
 oardroom/
SUMMARY:Cecil District Camporee Planning Meeting in Boardroom
DESCRIPTION:
CATEGORIES:Outside Event
END:VEVENT
BEGIN:VTIMEZONE
TZID:America/New_York
X-LIC-LOCATION:America/New_York
BEGIN:STANDARD
DTSTART:20241103T010000
TZOFFSETFROM:-0400
TZOFFSETTO:-0500
TZNAME:EST
END:STANDARD
END:VTIMEZONE
END:VCALENDAR