BEGIN:VCALENDAR
VERSION:2.0
PRODID:-//wp-events-plugin.com//7.2.3.1//EN
TZID:America/New_York
X-WR-TIMEZONE:America/New_York
BEGIN:VEVENT
UID:141@neryc.com
DTSTART;TZID=America/New_York:20250108T190000
DTEND;TZID=America/New_York:20250108T210000
DTSTAMP:20241230T215200Z
URL:https://neryc.com/events/bsa-roundtable/
SUMMARY:BSA Roundtable
DESCRIPTION:
CATEGORIES:Outside Event
END:VEVENT
BEGIN:VTIMEZONE
TZID:America/New_York
X-LIC-LOCATION:America/New_York
BEGIN:STANDARD
DTSTART:20241103T010000
TZOFFSETFROM:-0400
TZOFFSETTO:-0500
TZNAME:EST
END:STANDARD
END:VTIMEZONE
END:VCALENDAR